BEGIN:VCALENDAR
VERSION:2.0
PRODID:-//Parkinson Senior Society - ECPv6.6.0.2//NONSGML v1.0//EN
CALSCALE:GREGORIAN
METHOD:PUBLISH
X-ORIGINAL-URL:https://parkinsonseniors.com
X-WR-CALDESC:Events for Parkinson Senior Society
REFRESH-INTERVAL;VALUE=DURATION:PT1H
X-Robots-Tag:noindex
X-PUBLISHED-TTL:PT1H
BEGIN:VTIMEZONE
TZID:America/Vancouver
BEGIN:DAYLIGHT
TZOFFSETFROM:-0800
TZOFFSETTO:-0700
TZNAME:PDT
DTSTART:20250309T100000
END:DAYLIGHT
BEGIN:STANDARD
TZOFFSETFROM:-0700
TZOFFSETTO:-0800
TZNAME:PST
DTSTART:20251102T090000
END:STANDARD
END:VTIMEZONE
BEGIN:VEVENT
DTSTART;TZID=America/Vancouver:20251204T133000
DTEND;TZID=America/Vancouver:20251204T143000
DTSTAMP:20260425T184944
CREATED:20251118T221559Z
LAST-MODIFIED:20260325T204029Z
UID:120085-1764855000-1764858600@parkinsonseniors.com
SUMMARY:Cardio Drumming - Pre-Registration Required
DESCRIPTION:This new Fitness class requires pre-registration monthly. You can either phone the Centre at 250-762-4108 or come in person between 8am and 2pm Monday through Friday to sign up for the 4 Thursday classes in the month. Cost $12 for the series. This energizing class can be done either seated or standing. Designed to improve balance\, relieve stress\, increase strength\, and increase coordination –  All while enjoying energetic music & a great social atmosphere. COME JOIN US and DRUM UP SOME FUN!
URL:https://parkinsonseniors.com/event/cardio-drumming-group-fitness-3/2025-12-04/
LOCATION:Parkinson Senior Centre\, 1700 Parkinson Way\, Kelowna\, BC\, Canada
CATEGORIES:Activities,Weekly Activities
ATTACH;FMTTYPE=image/jpeg:https://parkinsonseniors.com/wp-content/uploads/2025/11/cardio-drumming.jpg
GEO:49.8832289;-119.4573565
X-APPLE-STRUCTURED-LOCATION;VALUE=URI;X-ADDRESS=Parkinson Senior Centre 1700 Parkinson Way Kelowna BC Canada;X-APPLE-RADIUS=500;X-TITLE=1700 Parkinson Way:geo:-119.4573565,49.8832289
END:VEVENT
END:VCALENDAR