BEGIN:VCALENDAR
VERSION:2.0
PRODID:-//Parkinson Senior Society - ECPv6.6.0.2//NONSGML v1.0//EN
CALSCALE:GREGORIAN
METHOD:PUBLISH
X-ORIGINAL-URL:https://parkinsonseniors.com
X-WR-CALDESC:Events for Parkinson Senior Society
REFRESH-INTERVAL;VALUE=DURATION:PT1H
X-Robots-Tag:noindex
X-PUBLISHED-TTL:PT1H
BEGIN:VTIMEZONE
TZID:America/Vancouver
BEGIN:DAYLIGHT
TZOFFSETFROM:-0800
TZOFFSETTO:-0700
TZNAME:PDT
DTSTART:20210314T100000
END:DAYLIGHT
BEGIN:STANDARD
TZOFFSETFROM:-0700
TZOFFSETTO:-0800
TZNAME:PST
DTSTART:20211107T090000
END:STANDARD
BEGIN:DAYLIGHT
TZOFFSETFROM:-0800
TZOFFSETTO:-0700
TZNAME:PDT
DTSTART:20220313T100000
END:DAYLIGHT
BEGIN:STANDARD
TZOFFSETFROM:-0700
TZOFFSETTO:-0800
TZNAME:PST
DTSTART:20221106T090000
END:STANDARD
BEGIN:DAYLIGHT
TZOFFSETFROM:-0800
TZOFFSETTO:-0700
TZNAME:PDT
DTSTART:20230312T100000
END:DAYLIGHT
BEGIN:STANDARD
TZOFFSETFROM:-0700
TZOFFSETTO:-0800
TZNAME:PST
DTSTART:20231105T090000
END:STANDARD
BEGIN:DAYLIGHT
TZOFFSETFROM:-0800
TZOFFSETTO:-0700
TZNAME:PDT
DTSTART:20240310T100000
END:DAYLIGHT
BEGIN:STANDARD
TZOFFSETFROM:-0700
TZOFFSETTO:-0800
TZNAME:PST
DTSTART:20241103T090000
END:STANDARD
BEGIN:DAYLIGHT
TZOFFSETFROM:-0800
TZOFFSETTO:-0700
TZNAME:PDT
DTSTART:20250309T100000
END:DAYLIGHT
BEGIN:STANDARD
TZOFFSETFROM:-0700
TZOFFSETTO:-0800
TZNAME:PST
DTSTART:20251102T090000
END:STANDARD
BEGIN:DAYLIGHT
TZOFFSETFROM:-0800
TZOFFSETTO:-0700
TZNAME:PDT
DTSTART:20260308T100000
END:DAYLIGHT
BEGIN:STANDARD
TZOFFSETFROM:-0700
TZOFFSETTO:-0800
TZNAME:PST
DTSTART:20261101T090000
END:STANDARD
END:VTIMEZONE
BEGIN:VEVENT
DTSTART;TZID=America/Vancouver:20260421T130000
DTEND;TZID=America/Vancouver:20260421T150000
DTSTAMP:20260425T131910
CREATED:20170810T060436Z
LAST-MODIFIED:20260402T183220Z
UID:119427-1776776400-1776783600@parkinsonseniors.com
SUMMARY:Scrabble - $2
DESCRIPTION:Come join us here at the Parkinson Activity Centre for a great game of Scrabble.  You don’t have to be a scrabble superstar to join in so come and have fun while keeping your mind sharp. You are going to meet some great people for sure. \n 
URL:https://parkinsonseniors.com/event/scrabble/2026-04-21/
LOCATION:Parkinson Senior Centre\, 1700 Parkinson Way\, Kelowna\, BC\, Canada
CATEGORIES:Weekly Activities
ATTACH;FMTTYPE=image/jpeg:https://parkinsonseniors.com/wp-content/uploads/2017/08/scrabble-2-scaled-e1585674931560.jpg
GEO:49.8832289;-119.4573565
X-APPLE-STRUCTURED-LOCATION;VALUE=URI;X-ADDRESS=Parkinson Senior Centre 1700 Parkinson Way Kelowna BC Canada;X-APPLE-RADIUS=500;X-TITLE=1700 Parkinson Way:geo:-119.4573565,49.8832289
END:VEVENT
BEGIN:VEVENT
DTSTART;TZID=America/Vancouver:20260421T130000
DTEND;TZID=America/Vancouver:20260421T150000
DTSTAMP:20260425T131910
CREATED:20170808T052200Z
LAST-MODIFIED:20260402T182917Z
UID:119432-1776776400-1776783600@parkinsonseniors.com
SUMMARY:Line Dancing - Level 3 & 4 - $2
DESCRIPTION:This class is for more experienced line dancers and would be the next step up from Level 2. The 1st hour concentrates on Low Improver to Easy Intermediate (Level 3) line dances and the 2nd hour concentrates on Intermediate/Advanced (Level 4) dances. The Level 3 portion of the class will follow the Level 2 format. The Level 4 format is slightly different in that a new dance is usually the 1st dance taught. New dances are generally done for 4 weeks in a row. \nCheck out all of the Line Dancing Level Descriptions (1-4) on Activities List page to see what’s best for you.
URL:https://parkinsonseniors.com/event/line-dancing-intermediate-2021-07-21/2026-04-21/
LOCATION:Parkinson Senior Centre\, 1700 Parkinson Way\, Kelowna\, BC\, Canada
CATEGORIES:Activities,Weekly Activities
ATTACH;FMTTYPE=image/jpeg:https://parkinsonseniors.com/wp-content/uploads/2017/08/Line-Dance-Experienced-1-1-e1585931861837.jpg
GEO:49.8832289;-119.4573565
X-APPLE-STRUCTURED-LOCATION;VALUE=URI;X-ADDRESS=Parkinson Senior Centre 1700 Parkinson Way Kelowna BC Canada;X-APPLE-RADIUS=500;X-TITLE=1700 Parkinson Way:geo:-119.4573565,49.8832289
END:VEVENT
BEGIN:VEVENT
DTSTART;TZID=America/Vancouver:20260421T114500
DTEND;TZID=America/Vancouver:20260421T124500
DTSTAMP:20260425T131910
CREATED:20251003T212352Z
LAST-MODIFIED:20260402T182808Z
UID:119436-1776771900-1776775500@parkinsonseniors.com
SUMMARY:Men's Group Fitness - $3
DESCRIPTION:Get Ready Guys! JEN is sure to put you through your paces in this MEN ONLY fitness class full of cardio\, strength\, resistance\, and weight exercises. Time to challenge yourself – YES. But remember to stay within your limits as your progress. Welcome to all levels.
URL:https://parkinsonseniors.com/event/mens-group-fitness-3/2026-04-21/
LOCATION:Parkinson Senior Centre\, 1700 Parkinson Way\, Kelowna\, BC\, Canada
CATEGORIES:Activities,Weekly Activities
ATTACH;FMTTYPE=image/jpeg:https://parkinsonseniors.com/wp-content/uploads/2025/10/mens-fitness-1-300x200-1.jpg
GEO:49.8832289;-119.4573565
X-APPLE-STRUCTURED-LOCATION;VALUE=URI;X-ADDRESS=Parkinson Senior Centre 1700 Parkinson Way Kelowna BC Canada;X-APPLE-RADIUS=500;X-TITLE=1700 Parkinson Way:geo:-119.4573565,49.8832289
END:VEVENT
BEGIN:VEVENT
DTSTART;TZID=America/Vancouver:20260421T091500
DTEND;TZID=America/Vancouver:20260421T110000
DTSTAMP:20260425T131910
CREATED:20220721T203412Z
LAST-MODIFIED:20260402T173149Z
UID:119435-1776762900-1776769200@parkinsonseniors.com
SUMMARY:Ukulele Jam Session - $3
DESCRIPTION:Arrive at 9:15 for check in\, set up\, tuning\, and hello’s. Jam Session starts promptly at 9:30. This session is for those who have already taken the lessons or already know how to play. It’s an opportunity to practice with others and learn new songs. You need to have your own ukulele to participate. Printed music can be purchased at the Centre. \n 
URL:https://parkinsonseniors.com/event/ukulele-group-3/2026-04-21/
LOCATION:Parkinson Senior Centre\, 1700 Parkinson Way\, Kelowna\, BC\, Canada
CATEGORIES:Activities,Weekly Activities
ATTACH;FMTTYPE=image/jpeg:https://parkinsonseniors.com/wp-content/uploads/2022/07/ukulele.jpg
GEO:49.8832289;-119.4573565
X-APPLE-STRUCTURED-LOCATION;VALUE=URI;X-ADDRESS=Parkinson Senior Centre 1700 Parkinson Way Kelowna BC Canada;X-APPLE-RADIUS=500;X-TITLE=1700 Parkinson Way:geo:-119.4573565,49.8832289
END:VEVENT
BEGIN:VEVENT
DTSTART;TZID=America/Vancouver:20260420T130000
DTEND;TZID=America/Vancouver:20260420T153000
DTSTAMP:20260425T131910
CREATED:20211206T194303Z
LAST-MODIFIED:20260305T215106Z
UID:119418-1776690000-1776699000@parkinsonseniors.com
SUMMARY:Wizard - $2
DESCRIPTION:Wizard is a card game similar to Bridge that is gaining in popularity. It can be played with 4\, 5 or 6 people making it flexible for singles to drop in. Basic premise is that you bid for tricks at an auction and proceed to capture them via straight bidding with no conventions\, making it easier to pick up the game. Then you must defend your hand as well as try to get tricks because you need to capture the exact amount you bid or else get penalized if you have more or less than your bid. In Wizard there is also a Wizard Card that trumps the trump suit and a Joker Card that helps you defend your hand from taking more tricks. Typical game takes approx. 2-2.5 hrs.
URL:https://parkinsonseniors.com/event/wizard-2/2026-04-20/
LOCATION:Parkinson Senior Centre\, 1700 Parkinson Way\, Kelowna\, BC\, Canada
CATEGORIES:Activities,Weekly Activities
ATTACH;FMTTYPE=image/jpeg:https://parkinsonseniors.com/wp-content/uploads/2021/12/wizard.jpg
GEO:49.8832289;-119.4573565
X-APPLE-STRUCTURED-LOCATION;VALUE=URI;X-ADDRESS=Parkinson Senior Centre 1700 Parkinson Way Kelowna BC Canada;X-APPLE-RADIUS=500;X-TITLE=1700 Parkinson Way:geo:-119.4573565,49.8832289
END:VEVENT
BEGIN:VEVENT
DTSTART;TZID=America/Vancouver:20260420T091500
DTEND;TZID=America/Vancouver:20260420T110000
DTSTAMP:20260425T131910
CREATED:20221107T185258Z
LAST-MODIFIED:20260424T162532Z
UID:119420-1776676500-1776682800@parkinsonseniors.com
SUMMARY:Ukulele Lessons - $3
DESCRIPTION:Arrive at 9:15 for check in\, set up\, tuning\, and hello’s. Lessons start promptly at 9:30. This class is for those who need to learn the basics of chords & strumming.  You do need your own ukulele to participate. Copies of printed music can be purchased from the Instructor. \n 
URL:https://parkinsonseniors.com/event/ukulele-lessons-3/2026-04-20/
LOCATION:Parkinson Senior Centre\, 1700 Parkinson Way\, Kelowna\, BC\, Canada
CATEGORIES:Activities,Weekly Activities
ATTACH;FMTTYPE=image/gif:https://parkinsonseniors.com/wp-content/uploads/2022/11/ukulele.gif
GEO:49.8832289;-119.4573565
X-APPLE-STRUCTURED-LOCATION;VALUE=URI;X-ADDRESS=Parkinson Senior Centre 1700 Parkinson Way Kelowna BC Canada;X-APPLE-RADIUS=500;X-TITLE=1700 Parkinson Way:geo:-119.4573565,49.8832289
END:VEVENT
BEGIN:VEVENT
DTSTART;TZID=America/Vancouver:20260420T081000
DTEND;TZID=America/Vancouver:20260420T091000
DTSTAMP:20260425T131910
CREATED:20251002T182718Z
LAST-MODIFIED:20260424T155927Z
UID:119423-1776672600-1776676200@parkinsonseniors.com
SUMMARY:Tums & Bums - Group Fitness - $3
DESCRIPTION:Tums & Bums The name says it all! Target those hard to tone abdominal areas with functional core exercises. Focus on all layers of your abdominals plus your middle and lower back muscles and of course tightening up your glutes (aka booty). Increase your “powerhouse” strength to build lean muscle mass for better posture\, less risk of injury and a stronger heathier you. Having a good ability to move from floor to standing is a good prerequisite for your own comfort. We will use mainly body weight so all you need to bring is your own mat\, a towel and/or small pillow. Options will be given for all levels of fitness. It a win\, win.
URL:https://parkinsonseniors.com/event/tums-bums-group-fitness-3/2026-04-20/
LOCATION:Parkinson Senior Centre\, 1700 Parkinson Way\, Kelowna\, BC\, Canada
CATEGORIES:Activities,Weekly Activities
ATTACH;FMTTYPE=image/png:https://parkinsonseniors.com/wp-content/uploads/2025/10/heather.png
GEO:49.8832289;-119.4573565
X-APPLE-STRUCTURED-LOCATION;VALUE=URI;X-ADDRESS=Parkinson Senior Centre 1700 Parkinson Way Kelowna BC Canada;X-APPLE-RADIUS=500;X-TITLE=1700 Parkinson Way:geo:-119.4573565,49.8832289
END:VEVENT
BEGIN:VEVENT
DTSTART;TZID=America/Vancouver:20260418T111500
DTEND;TZID=America/Vancouver:20260418T133000
DTSTAMP:20260425T131910
CREATED:20200305T130819Z
LAST-MODIFIED:20260327T212532Z
UID:119376-1776510900-1776519000@parkinsonseniors.com
SUMMARY:Pickleball 3.5 + above - $2
DESCRIPTION:For well skilled players only. This is the highest play level session at the Centre meant for those with experience and smashing ability. Expect a faster pace as you will be expected to keep up. come out and face off in a friendly game or two. Must be an Active Member. \nIMPORTANT NOTE: Thursday\, Saturday & Sunday Pickleball Sessions require registration. Registration starts every Monday morning at 8:00am by phone 250-762-4108 (or in person at the Centre). You may sign up for Thursday + 1 Weekend Session. Yourself and a partner. Sessions are capped at 24 people.
URL:https://parkinsonseniors.com/event/pickleball-3-5-up-2/2026-04-18/
LOCATION:Parkinson Senior Centre\, 1700 Parkinson Way\, Kelowna\, BC\, Canada
CATEGORIES:Activities,Weekly Activities
ATTACH;FMTTYPE=image/jpeg:https://parkinsonseniors.com/wp-content/uploads/2014/09/PICKLEBALL.jpg
GEO:49.8832289;-119.4573565
X-APPLE-STRUCTURED-LOCATION;VALUE=URI;X-ADDRESS=Parkinson Senior Centre 1700 Parkinson Way Kelowna BC Canada;X-APPLE-RADIUS=500;X-TITLE=1700 Parkinson Way:geo:-119.4573565,49.8832289
END:VEVENT
BEGIN:VEVENT
DTSTART;TZID=America/Vancouver:20260417T141500
DTEND;TZID=America/Vancouver:20260417T163000
DTSTAMP:20260425T131910
CREATED:20221108T190619Z
LAST-MODIFIED:20260422T203704Z
UID:119375-1776435300-1776443400@parkinsonseniors.com
SUMMARY:Pickleball - Beginner Drills & Play - $2
DESCRIPTION:This Session every Friday after the Lesson is from 2:15 – 4:30 pm. It is for those who have attended at least one Lesson and know how to serve\, count\, and understand court position. Here you will receive Coaching to improve your skills to move up to the next Level. The instructors will run through some drills to get you more equipped as well as supervise some play.  \nNOTE: This session is capped at 24 people. Check in starts no sooner than 1 hour before.\n 
URL:https://parkinsonseniors.com/event/pickleball-beginners-only-play-2/2026-04-17/
LOCATION:Parkinson Senior Centre\, 1700 Parkinson Way\, Kelowna\, BC\, Canada
CATEGORIES:Activities,Weekly Activities
ATTACH;FMTTYPE=image/jpeg:https://parkinsonseniors.com/wp-content/uploads/2022/11/pickleball-1.jpg
GEO:49.8832289;-119.4573565
X-APPLE-STRUCTURED-LOCATION;VALUE=URI;X-ADDRESS=Parkinson Senior Centre 1700 Parkinson Way Kelowna BC Canada;X-APPLE-RADIUS=500;X-TITLE=1700 Parkinson Way:geo:-119.4573565,49.8832289
END:VEVENT
BEGIN:VEVENT
DTSTART;TZID=America/Vancouver:20260417T123000
DTEND;TZID=America/Vancouver:20260417T141500
DTSTAMP:20260425T131910
CREATED:20211206T200905Z
LAST-MODIFIED:20260325T210353Z
UID:119373-1776429000-1776435300@parkinsonseniors.com
SUMMARY:Pickleball Lesson - $2
DESCRIPTION:Want to learn this fast growing sport! This Session – every Friday – from 12:30 – 2:15 pm is for Beginners only to learn the rules and game play. Once you know how to serve\, count\, and court position you move on. Some may need to take this session multiple times.
URL:https://parkinsonseniors.com/event/beginner-pickleball-lesson-2/2026-04-17/
LOCATION:BC
CATEGORIES:Activities,Weekly Activities
ATTACH;FMTTYPE=image/jpeg:https://parkinsonseniors.com/wp-content/uploads/2019/08/pickleball-3.jpg
END:VEVENT
BEGIN:VEVENT
DTSTART;TZID=America/Vancouver:20260406T080000
DTEND;TZID=America/Vancouver:20260406T170000
DTSTAMP:20260425T131910
CREATED:20260303T184943Z
LAST-MODIFIED:20260303T184943Z
UID:123452-1775462400-1775494800@parkinsonseniors.com
SUMMARY:CLOSED - EASTER MONDAY
DESCRIPTION:We are closed today for Easter Monday. See you tomorrow!
URL:https://parkinsonseniors.com/event/closed-easter-monday/
LOCATION:Parkinson Senior Centre\, 1700 Parkinson Way\, Kelowna\, BC\, Canada
CATEGORIES:Activities,Weekly Activities
ATTACH;FMTTYPE=image/jpeg:https://parkinsonseniors.com/wp-content/uploads/2026/03/Easter-Monday.jpg
GEO:49.8832289;-119.4573565
X-APPLE-STRUCTURED-LOCATION;VALUE=URI;X-ADDRESS=Parkinson Senior Centre 1700 Parkinson Way Kelowna BC Canada;X-APPLE-RADIUS=500;X-TITLE=1700 Parkinson Way:geo:-119.4573565,49.8832289
END:VEVENT
BEGIN:VEVENT
DTSTART;TZID=America/Vancouver:20260403T080000
DTEND;TZID=America/Vancouver:20260403T170000
DTSTAMP:20260425T131910
CREATED:20260303T184548Z
LAST-MODIFIED:20260303T184548Z
UID:123449-1775203200-1775235600@parkinsonseniors.com
SUMMARY:CLOSED - GOOD FRIDAY
DESCRIPTION:We are closed today for Good Friday as well as on Easter Monday. Have a lovely time over the weekend and we’ll see you on Tuesday!
URL:https://parkinsonseniors.com/event/closed-good-friday/
LOCATION:Parkinson Senior Centre\, 1700 Parkinson Way\, Kelowna\, BC\, Canada
CATEGORIES:Activities,Weekly Activities
ATTACH;FMTTYPE=image/jpeg:https://parkinsonseniors.com/wp-content/uploads/2026/03/good-friday.jpg
GEO:49.8832289;-119.4573565
X-APPLE-STRUCTURED-LOCATION;VALUE=URI;X-ADDRESS=Parkinson Senior Centre 1700 Parkinson Way Kelowna BC Canada;X-APPLE-RADIUS=500;X-TITLE=1700 Parkinson Way:geo:-119.4573565,49.8832289
END:VEVENT
BEGIN:VEVENT
DTSTART;TZID=America/Vancouver:20260326T133000
DTEND;TZID=America/Vancouver:20260326T143000
DTSTAMP:20260425T131910
CREATED:20251118T221559Z
LAST-MODIFIED:20260325T204207Z
UID:120104-1774531800-1774535400@parkinsonseniors.com
SUMMARY:Cardio Drumming - Pre-Registration Required
DESCRIPTION:This new Fitness class requires pre-registration monthly. You can either phone the Centre at 250-762-4108 or come in person between 8am and 2pm Monday through Friday to sign up for the 4 Thursday classes in the month. Cost $12 for the series. This energizing class can be done either seated or standing. Designed to improve balance\, relieve stress\, increase strength\, and increase coordination –  All while enjoying energetic music & a great social atmosphere. COME JOIN US and DRUM UP SOME FUN!
URL:https://parkinsonseniors.com/event/cardio-drumming-group-fitness-3/2026-03-26/
LOCATION:Parkinson Senior Centre\, 1700 Parkinson Way\, Kelowna\, BC\, Canada
CATEGORIES:Activities,Weekly Activities
ATTACH;FMTTYPE=image/jpeg:https://parkinsonseniors.com/wp-content/uploads/2025/11/cardio-drumming.jpg
GEO:49.8832289;-119.4573565
X-APPLE-STRUCTURED-LOCATION;VALUE=URI;X-ADDRESS=Parkinson Senior Centre 1700 Parkinson Way Kelowna BC Canada;X-APPLE-RADIUS=500;X-TITLE=1700 Parkinson Way:geo:-119.4573565,49.8832289
END:VEVENT
BEGIN:VEVENT
DTSTART;TZID=America/Vancouver:20260216T080000
DTEND;TZID=America/Vancouver:20260216T170000
DTSTAMP:20260425T131910
CREATED:20260119T172232Z
LAST-MODIFIED:20260119T172844Z
UID:122377-1771228800-1771261200@parkinsonseniors.com
SUMMARY:CLOSED - Family Day
DESCRIPTION:Have a wonderful day. We’ll see you tomorrow!
URL:https://parkinsonseniors.com/event/closed-family-day/
LOCATION:Parkinson Senior Centre\, 1700 Parkinson Way\, Kelowna\, BC\, Canada
CATEGORIES:Activities,Weekly Activities
ATTACH;FMTTYPE=image/jpeg:https://parkinsonseniors.com/wp-content/uploads/2026/01/2-FAMILY-DAY.jpg
GEO:49.8832289;-119.4573565
X-APPLE-STRUCTURED-LOCATION;VALUE=URI;X-ADDRESS=Parkinson Senior Centre 1700 Parkinson Way Kelowna BC Canada;X-APPLE-RADIUS=500;X-TITLE=1700 Parkinson Way:geo:-119.4573565,49.8832289
END:VEVENT
BEGIN:VEVENT
DTSTART;TZID=America/Vancouver:20260105T080000
DTEND;TZID=America/Vancouver:20260201T170000
DTSTAMP:20260425T131910
CREATED:20251121T184734Z
LAST-MODIFIED:20260119T171722Z
UID:120159-1767600000-1769965200@parkinsonseniors.com
SUMMARY:UKULELE LESSON - BREAK
DESCRIPTION:Your Ukulele instructor\, Miko\, will be away for a bit. Lessons will resume fresh from the start on Mon. Feb. 2\, 2026. Mahalo!
URL:https://parkinsonseniors.com/event/ukulele-lesson-break/
LOCATION:Parkinson Senior Centre\, 1700 Parkinson Way\, Kelowna\, BC\, Canada
CATEGORIES:Activities,Weekly Activities
ATTACH;FMTTYPE=image/jpeg:https://parkinsonseniors.com/wp-content/uploads/2025/11/uke.jpg
GEO:49.8832289;-119.4573565
X-APPLE-STRUCTURED-LOCATION;VALUE=URI;X-ADDRESS=Parkinson Senior Centre 1700 Parkinson Way Kelowna BC Canada;X-APPLE-RADIUS=500;X-TITLE=1700 Parkinson Way:geo:-119.4573565,49.8832289
END:VEVENT
BEGIN:VEVENT
DTSTART;TZID=America/Vancouver:20251220T080000
DTEND;TZID=America/Vancouver:20260104T170000
DTSTAMP:20260425T131910
CREATED:20241115T213240Z
LAST-MODIFIED:20251117T182256Z
UID:108060-1766217600-1767546000@parkinsonseniors.com
SUMMARY:CHRISTMAS BREAK - CLOSED
DESCRIPTION:We hope you all have a wonderful time over the holidays with family & friends! We will re-open on Monday\, January 5\, 2026. \n 
URL:https://parkinsonseniors.com/event/closed-christmas-break/2025-12-20/
LOCATION:Parkinson Senior Centre\, 1700 Parkinson Way\, Kelowna\, BC\, Canada
CATEGORIES:Activities,Weekly Activities
ATTACH;FMTTYPE=image/jpeg:https://parkinsonseniors.com/wp-content/uploads/2024/11/enjoy-the-holidays-for-site.jpg
GEO:49.8832289;-119.4573565
X-APPLE-STRUCTURED-LOCATION;VALUE=URI;X-ADDRESS=Parkinson Senior Centre 1700 Parkinson Way Kelowna BC Canada;X-APPLE-RADIUS=500;X-TITLE=1700 Parkinson Way:geo:-119.4573565,49.8832289
END:VEVENT
BEGIN:VEVENT
DTSTART;TZID=America/Vancouver:20251111T080000
DTEND;TZID=America/Vancouver:20251111T150000
DTSTAMP:20260425T131910
CREATED:20250506T210100Z
LAST-MODIFIED:20251023T161531Z
UID:113219-1762848000-1762873200@parkinsonseniors.com
SUMMARY:CLOSED - REMEMBRANCE DAY
DESCRIPTION:We are closed for Remembrance Day. We’ll see you tomorrow!
URL:https://parkinsonseniors.com/event/closed-victoria-day/
LOCATION:Parkinson Senior Centre\, 1700 Parkinson Way\, Kelowna\, BC\, Canada
CATEGORIES:Activities,Weekly Activities
ATTACH;FMTTYPE=image/jpeg:https://parkinsonseniors.com/wp-content/uploads/2025/05/remembrance-day-services.jpg
GEO:49.8832289;-119.4573565
X-APPLE-STRUCTURED-LOCATION;VALUE=URI;X-ADDRESS=Parkinson Senior Centre 1700 Parkinson Way Kelowna BC Canada;X-APPLE-RADIUS=500;X-TITLE=1700 Parkinson Way:geo:-119.4573565,49.8832289
END:VEVENT
BEGIN:VEVENT
DTSTART;TZID=America/Vancouver:20251025T090000
DTEND;TZID=America/Vancouver:20251025T140000
DTSTAMP:20260425T131910
CREATED:20250925T184344Z
LAST-MODIFIED:20251029T215743Z
UID:118476-1761382800-1761400800@parkinsonseniors.com
SUMMARY:Billiards Room - $2
DESCRIPTION:NOTE: On Saturdays you need to pay by cash ($2) – punch cards do not apply as the front desk is closed.\nOur Pool Room on the 2nd floor of the Centre is equipped with 4 regulation size billiards tables. 1 designated for Eight Ball and the other 3 for Snooker. Although many of our regular players do bring their own cues we also have cues available for use for those who don’t own one.  All Members welcome. Only $2.00!  You can also pre-pay $20 for 11 entries onto your Membership card so you don’t have to bring cash each time. We take one off your credit upon check in and let you know how many you  have left. That easy. Plus it means you get 1 for free!
URL:https://parkinsonseniors.com/event/billiards-room-2-4/2025-10-25/
LOCATION:Parkinson Senior Centre\, 1700 Parkinson Way\, Kelowna\, BC\, Canada
CATEGORIES:Activities,Weekly Activities
ATTACH;FMTTYPE=image/png:https://parkinsonseniors.com/wp-content/uploads/2025/09/pool-balls.png
GEO:49.8832289;-119.4573565
X-APPLE-STRUCTURED-LOCATION;VALUE=URI;X-ADDRESS=Parkinson Senior Centre 1700 Parkinson Way Kelowna BC Canada;X-APPLE-RADIUS=500;X-TITLE=1700 Parkinson Way:geo:-119.4573565,49.8832289
END:VEVENT
BEGIN:VEVENT
DTSTART;TZID=America/Vancouver:20250926T123000
DTEND;TZID=America/Vancouver:20250926T160000
DTSTAMP:20260425T131910
CREATED:20250627T181309Z
LAST-MODIFIED:20250627T181309Z
UID:117701-1758889800-1758902400@parkinsonseniors.com
SUMMARY:Pickleball - 2.5 and Below - $2
DESCRIPTION:This Session running ONLY during July\, August & September is for Beginners Level 2.5 and Below. No registration required.
URL:https://parkinsonseniors.com/event/pickleball-2-5-and-below-2/2025-09-26/
LOCATION:Parkinson Senior Centre\, 1700 Parkinson Way\, Kelowna\, BC\, Canada
CATEGORIES:Activities,Weekly Activities
ATTACH;FMTTYPE=image/png:https://parkinsonseniors.com/wp-content/uploads/2021/07/pickleball.png
GEO:49.8832289;-119.4573565
X-APPLE-STRUCTURED-LOCATION;VALUE=URI;X-ADDRESS=Parkinson Senior Centre 1700 Parkinson Way Kelowna BC Canada;X-APPLE-RADIUS=500;X-TITLE=1700 Parkinson Way:geo:-119.4573565,49.8832289
END:VEVENT
BEGIN:VEVENT
DTSTART;TZID=America/Vancouver:20250826T090000
DTEND;TZID=America/Vancouver:20250826T124500
DTSTAMP:20260425T131910
CREATED:20230817T164609Z
LAST-MODIFIED:20250813T181123Z
UID:111518-1756198800-1756212300@parkinsonseniors.com
SUMMARY:Crafting - $2
DESCRIPTION:Bring the materials and project that you would like to work on and take part in this creative atmosphere with fellow crafters. Anything from paper crafting\, card making\, scrapbooking\, knitting\, crocheting\, what ever creative passion you may have. Learn or share something new.
URL:https://parkinsonseniors.com/event/crafting-2/2025-08-26/
LOCATION:Parkinson Senior Centre\, 1700 Parkinson Way\, Kelowna\, BC\, Canada
CATEGORIES:Activities,Weekly Activities
ATTACH;FMTTYPE=image/jpeg:https://parkinsonseniors.com/wp-content/uploads/2023/08/crafting.jpg
GEO:49.8832289;-119.4573565
X-APPLE-STRUCTURED-LOCATION;VALUE=URI;X-ADDRESS=Parkinson Senior Centre 1700 Parkinson Way Kelowna BC Canada;X-APPLE-RADIUS=500;X-TITLE=1700 Parkinson Way:geo:-119.4573565,49.8832289
END:VEVENT
BEGIN:VEVENT
DTSTART;TZID=America/Vancouver:20250427T190000
DTEND;TZID=America/Vancouver:20250427T210000
DTSTAMP:20260425T131910
CREATED:20240322T170206Z
LAST-MODIFIED:20250403T195703Z
UID:107446-1745780400-1745787600@parkinsonseniors.com
SUMMARY:Pickleball - All Play - $2
DESCRIPTION: This session is open to all levels. Please be respectful of each other and above all\, have fun!\nIMPORTANT NOTE: Thursday\, Saturday & Sunday Pickleball Sessions require registration. Registration starts every Monday morning at 8:00am by phone 250-762-4108 (or in person at the Centre). You may sign up for Thursday + 1 Weekend Session. Yourself and a partner. Sessions are capped at 24 people.
URL:https://parkinsonseniors.com/event/pickleball-open-play-2/2025-04-27/
LOCATION:Parkinson Senior Centre\, 1700 Parkinson Way\, Kelowna\, BC\, Canada
CATEGORIES:Activities,Weekly Activities
ATTACH;FMTTYPE=image/jpeg:https://parkinsonseniors.com/wp-content/uploads/2023/12/Pickleball.jpg
GEO:49.8832289;-119.4573565
X-APPLE-STRUCTURED-LOCATION;VALUE=URI;X-ADDRESS=Parkinson Senior Centre 1700 Parkinson Way Kelowna BC Canada;X-APPLE-RADIUS=500;X-TITLE=1700 Parkinson Way:geo:-119.4573565,49.8832289
END:VEVENT
BEGIN:VEVENT
DTSTART;TZID=America/Vancouver:20250426T111500
DTEND;TZID=America/Vancouver:20250426T133000
DTSTAMP:20260425T131910
CREATED:20221108T195751Z
LAST-MODIFIED:20250408T194259Z
UID:107438-1745666100-1745674200@parkinsonseniors.com
SUMMARY:Pickleball - Level 3.5 + Up - $2
DESCRIPTION:For well skilled players only. This is the highest play level at the Centre meant for those with experience. Expect a faster pace as you will be expected to keep up. \nIMPORTANT NOTE: Thursday\, Saturday & Sunday Pickleball Sessions require registration. Registration starts every Monday morning at 8:00am by phone 250-762-4108 (or in person at the Centre). You may sign up for Thursday + 1 Weekend Session. Yourself and a partner. Sessions are capped at 24 people.
URL:https://parkinsonseniors.com/event/pickleball-level-3-5-up-2/2025-04-26/
LOCATION:Parkinson Senior Centre\, 1700 Parkinson Way\, Kelowna\, BC\, Canada
CATEGORIES:Activities,Weekly Activities
ATTACH;FMTTYPE=image/jpeg:https://parkinsonseniors.com/wp-content/uploads/2022/11/PICKLEBALL-ROCKS.jpg
GEO:49.8832289;-119.4573565
X-APPLE-STRUCTURED-LOCATION;VALUE=URI;X-ADDRESS=Parkinson Senior Centre 1700 Parkinson Way Kelowna BC Canada;X-APPLE-RADIUS=500;X-TITLE=1700 Parkinson Way:geo:-119.4573565,49.8832289
END:VEVENT
BEGIN:VEVENT
DTSTART;TZID=America/Vancouver:20231004T090000
DTEND;TZID=America/Vancouver:20231004T113000
DTSTAMP:20260425T131910
CREATED:20210705T003547Z
LAST-MODIFIED:20240502T181726Z
UID:62551-1696410000-1696419000@parkinsonseniors.com
SUMMARY:Hiking Group - no charge
DESCRIPTION:Trekkers meet at the Parkinson Activity Centre\,1700 Parkinson Way\, at 9:00 am on Wednesdays unless otherwise indicated. View Monthly Schedule of Dates & Destinations as well as pertinent information on the HIKING GROUP PAGE.  You must be a Member to attend at Check In at the Centre prior to starting out – unless you meet at the trailhead where you will check in there with the Leader.
URL:https://parkinsonseniors.com/event/hiking-group-no-charge/2023-10-04/
LOCATION:Parkinson Senior Centre\, 1700 Parkinson Way\, Kelowna\, BC\, Canada
CATEGORIES:Activities,Weekly Activities
ATTACH;FMTTYPE=image/jpeg:https://parkinsonseniors.com/wp-content/uploads/2020/06/trek-june-2020.jpg
GEO:49.8832289;-119.4573565
X-APPLE-STRUCTURED-LOCATION;VALUE=URI;X-ADDRESS=Parkinson Senior Centre 1700 Parkinson Way Kelowna BC Canada;X-APPLE-RADIUS=500;X-TITLE=1700 Parkinson Way:geo:-119.4573565,49.8832289
END:VEVENT
BEGIN:VEVENT
DTSTART;TZID=America/Vancouver:20210719T124500
DTEND;TZID=America/Vancouver:20210719T134500
DTSTAMP:20260425T131910
CREATED:20170810T055305Z
LAST-MODIFIED:20231211T213639Z
UID:58474-1626698700-1626702300@parkinsonseniors.com
SUMMARY:Tai Chi/Qigong - $3
DESCRIPTION:Tai Chi/Qigong\, as it is practiced in the west today\, can perhaps best be thought of as a moving form of yoga and meditation combined. There are a number of so- called forms (sometimes also called ‘sets’) which consist of a sequence of movements. Many of these movements are originally derived from the martial arts (and perhaps even more ancestrally than that\, from the natural movements of animals and birds) although the way they are performed in Tai Chi/Qigong is slowly\, softly and gracefully with smooth and even transitions between them. \nFor many practitioners the focus in doing them is not\, first and foremost\, martial\, but as a meditative exercise for the body. For others the combat aspects of Tai Chi/Qigong are of considerable interest. In Chinese philosophy and medicine there exists the concept of ‘chi’\, a vital force that animates the body. One of the avowed aims of Tai Chi/Qigong is to foster the circulation of this ‘chi’ within the body\, the belief being that by doing so the health and vitality of the person are enhanced. This ‘chi’ circulates in patterns that are close related to the nervous and vascular system and thus the notion is closely connected with that of the practice of acupuncture and other oriental healing arts. \nHere at the Parkinson Senior Society we are thrilled to have Mr. Harold Naka as our Tai Chi/Qigong instructor. Classes are offered as follows: \nMonday at 12:45pm – 1:45pm\nFriday at 10:00am – 11:00pm
URL:https://parkinsonseniors.com/event/tia-chi-2021-07-19/2021-07-19/
LOCATION:Parkinson Senior Centre\, 1700 Parkinson Way\, Kelowna\, BC\, Canada
CATEGORIES:Activities,Weekly Activities
ATTACH;FMTTYPE=image/jpeg:https://parkinsonseniors.com/wp-content/uploads/2017/08/tai-chi-3-e1584641102240.jpg
GEO:49.8832289;-119.4573565
X-APPLE-STRUCTURED-LOCATION;VALUE=URI;X-ADDRESS=Parkinson Senior Centre 1700 Parkinson Way Kelowna BC Canada;X-APPLE-RADIUS=500;X-TITLE=1700 Parkinson Way:geo:-119.4573565,49.8832289
END:VEVENT
END:VCALENDAR