BEGIN:VCALENDAR
VERSION:2.0
PRODID:-//Parkinson Senior Society - ECPv6.6.0.2//NONSGML v1.0//EN
CALSCALE:GREGORIAN
METHOD:PUBLISH
X-ORIGINAL-URL:https://parkinsonseniors.com
X-WR-CALDESC:Events for Parkinson Senior Society
REFRESH-INTERVAL;VALUE=DURATION:PT1H
X-Robots-Tag:noindex
X-PUBLISHED-TTL:PT1H
BEGIN:VTIMEZONE
TZID:America/Vancouver
BEGIN:DAYLIGHT
TZOFFSETFROM:-0800
TZOFFSETTO:-0700
TZNAME:PDT
DTSTART:20210314T100000
END:DAYLIGHT
BEGIN:STANDARD
TZOFFSETFROM:-0700
TZOFFSETTO:-0800
TZNAME:PST
DTSTART:20211107T090000
END:STANDARD
BEGIN:DAYLIGHT
TZOFFSETFROM:-0800
TZOFFSETTO:-0700
TZNAME:PDT
DTSTART:20220313T100000
END:DAYLIGHT
BEGIN:STANDARD
TZOFFSETFROM:-0700
TZOFFSETTO:-0800
TZNAME:PST
DTSTART:20221106T090000
END:STANDARD
BEGIN:DAYLIGHT
TZOFFSETFROM:-0800
TZOFFSETTO:-0700
TZNAME:PDT
DTSTART:20230312T100000
END:DAYLIGHT
BEGIN:STANDARD
TZOFFSETFROM:-0700
TZOFFSETTO:-0800
TZNAME:PST
DTSTART:20231105T090000
END:STANDARD
BEGIN:DAYLIGHT
TZOFFSETFROM:-0800
TZOFFSETTO:-0700
TZNAME:PDT
DTSTART:20240310T100000
END:DAYLIGHT
BEGIN:STANDARD
TZOFFSETFROM:-0700
TZOFFSETTO:-0800
TZNAME:PST
DTSTART:20241103T090000
END:STANDARD
BEGIN:DAYLIGHT
TZOFFSETFROM:-0800
TZOFFSETTO:-0700
TZNAME:PDT
DTSTART:20250309T100000
END:DAYLIGHT
BEGIN:STANDARD
TZOFFSETFROM:-0700
TZOFFSETTO:-0800
TZNAME:PST
DTSTART:20251102T090000
END:STANDARD
END:VTIMEZONE
BEGIN:VEVENT
DTSTART;TZID=America/Vancouver:20250427T190000
DTEND;TZID=America/Vancouver:20250427T210000
DTSTAMP:20260425T155618
CREATED:20240322T170206Z
LAST-MODIFIED:20250403T195703Z
UID:107446-1745780400-1745787600@parkinsonseniors.com
SUMMARY:Pickleball - All Play - $2
DESCRIPTION: This session is open to all levels. Please be respectful of each other and above all\, have fun!\nIMPORTANT NOTE: Thursday\, Saturday & Sunday Pickleball Sessions require registration. Registration starts every Monday morning at 8:00am by phone 250-762-4108 (or in person at the Centre). You may sign up for Thursday + 1 Weekend Session. Yourself and a partner. Sessions are capped at 24 people.
URL:https://parkinsonseniors.com/event/pickleball-open-play-2/2025-04-27/
LOCATION:Parkinson Senior Centre\, 1700 Parkinson Way\, Kelowna\, BC\, Canada
CATEGORIES:Activities,Weekly Activities
ATTACH;FMTTYPE=image/jpeg:https://parkinsonseniors.com/wp-content/uploads/2023/12/Pickleball.jpg
GEO:49.8832289;-119.4573565
X-APPLE-STRUCTURED-LOCATION;VALUE=URI;X-ADDRESS=Parkinson Senior Centre 1700 Parkinson Way Kelowna BC Canada;X-APPLE-RADIUS=500;X-TITLE=1700 Parkinson Way:geo:-119.4573565,49.8832289
END:VEVENT
BEGIN:VEVENT
DTSTART;TZID=America/Vancouver:20250426T111500
DTEND;TZID=America/Vancouver:20250426T133000
DTSTAMP:20260425T155618
CREATED:20221108T195751Z
LAST-MODIFIED:20250408T194259Z
UID:107438-1745666100-1745674200@parkinsonseniors.com
SUMMARY:Pickleball - Level 3.5 + Up - $2
DESCRIPTION:For well skilled players only. This is the highest play level at the Centre meant for those with experience. Expect a faster pace as you will be expected to keep up. \nIMPORTANT NOTE: Thursday\, Saturday & Sunday Pickleball Sessions require registration. Registration starts every Monday morning at 8:00am by phone 250-762-4108 (or in person at the Centre). You may sign up for Thursday + 1 Weekend Session. Yourself and a partner. Sessions are capped at 24 people.
URL:https://parkinsonseniors.com/event/pickleball-level-3-5-up-2/2025-04-26/
LOCATION:Parkinson Senior Centre\, 1700 Parkinson Way\, Kelowna\, BC\, Canada
CATEGORIES:Activities,Weekly Activities
ATTACH;FMTTYPE=image/jpeg:https://parkinsonseniors.com/wp-content/uploads/2022/11/PICKLEBALL-ROCKS.jpg
GEO:49.8832289;-119.4573565
X-APPLE-STRUCTURED-LOCATION;VALUE=URI;X-ADDRESS=Parkinson Senior Centre 1700 Parkinson Way Kelowna BC Canada;X-APPLE-RADIUS=500;X-TITLE=1700 Parkinson Way:geo:-119.4573565,49.8832289
END:VEVENT
BEGIN:VEVENT
DTSTART;TZID=America/Vancouver:20231004T090000
DTEND;TZID=America/Vancouver:20231004T113000
DTSTAMP:20260425T155618
CREATED:20210705T003547Z
LAST-MODIFIED:20240502T181726Z
UID:62551-1696410000-1696419000@parkinsonseniors.com
SUMMARY:Hiking Group - no charge
DESCRIPTION:Trekkers meet at the Parkinson Activity Centre\,1700 Parkinson Way\, at 9:00 am on Wednesdays unless otherwise indicated. View Monthly Schedule of Dates & Destinations as well as pertinent information on the HIKING GROUP PAGE.  You must be a Member to attend at Check In at the Centre prior to starting out – unless you meet at the trailhead where you will check in there with the Leader.
URL:https://parkinsonseniors.com/event/hiking-group-no-charge/2023-10-04/
LOCATION:Parkinson Senior Centre\, 1700 Parkinson Way\, Kelowna\, BC\, Canada
CATEGORIES:Activities,Weekly Activities
ATTACH;FMTTYPE=image/jpeg:https://parkinsonseniors.com/wp-content/uploads/2020/06/trek-june-2020.jpg
GEO:49.8832289;-119.4573565
X-APPLE-STRUCTURED-LOCATION;VALUE=URI;X-ADDRESS=Parkinson Senior Centre 1700 Parkinson Way Kelowna BC Canada;X-APPLE-RADIUS=500;X-TITLE=1700 Parkinson Way:geo:-119.4573565,49.8832289
END:VEVENT
BEGIN:VEVENT
DTSTART;TZID=America/Vancouver:20210719T124500
DTEND;TZID=America/Vancouver:20210719T134500
DTSTAMP:20260425T155618
CREATED:20170810T055305Z
LAST-MODIFIED:20231211T213639Z
UID:58474-1626698700-1626702300@parkinsonseniors.com
SUMMARY:Tai Chi/Qigong - $3
DESCRIPTION:Tai Chi/Qigong\, as it is practiced in the west today\, can perhaps best be thought of as a moving form of yoga and meditation combined. There are a number of so- called forms (sometimes also called ‘sets’) which consist of a sequence of movements. Many of these movements are originally derived from the martial arts (and perhaps even more ancestrally than that\, from the natural movements of animals and birds) although the way they are performed in Tai Chi/Qigong is slowly\, softly and gracefully with smooth and even transitions between them. \nFor many practitioners the focus in doing them is not\, first and foremost\, martial\, but as a meditative exercise for the body. For others the combat aspects of Tai Chi/Qigong are of considerable interest. In Chinese philosophy and medicine there exists the concept of ‘chi’\, a vital force that animates the body. One of the avowed aims of Tai Chi/Qigong is to foster the circulation of this ‘chi’ within the body\, the belief being that by doing so the health and vitality of the person are enhanced. This ‘chi’ circulates in patterns that are close related to the nervous and vascular system and thus the notion is closely connected with that of the practice of acupuncture and other oriental healing arts. \nHere at the Parkinson Senior Society we are thrilled to have Mr. Harold Naka as our Tai Chi/Qigong instructor. Classes are offered as follows: \nMonday at 12:45pm – 1:45pm\nFriday at 10:00am – 11:00pm
URL:https://parkinsonseniors.com/event/tia-chi-2021-07-19/2021-07-19/
LOCATION:Parkinson Senior Centre\, 1700 Parkinson Way\, Kelowna\, BC\, Canada
CATEGORIES:Activities,Weekly Activities
ATTACH;FMTTYPE=image/jpeg:https://parkinsonseniors.com/wp-content/uploads/2017/08/tai-chi-3-e1584641102240.jpg
GEO:49.8832289;-119.4573565
X-APPLE-STRUCTURED-LOCATION;VALUE=URI;X-ADDRESS=Parkinson Senior Centre 1700 Parkinson Way Kelowna BC Canada;X-APPLE-RADIUS=500;X-TITLE=1700 Parkinson Way:geo:-119.4573565,49.8832289
END:VEVENT
END:VCALENDAR