BEGIN:VCALENDAR
VERSION:2.0
PRODID:-//Parkinson Senior Society - ECPv6.6.0.2//NONSGML v1.0//EN
CALSCALE:GREGORIAN
METHOD:PUBLISH
X-ORIGINAL-URL:https://parkinsonseniors.com
X-WR-CALDESC:Events for Parkinson Senior Society
REFRESH-INTERVAL;VALUE=DURATION:PT1H
X-Robots-Tag:noindex
X-PUBLISHED-TTL:PT1H
BEGIN:VTIMEZONE
TZID:America/Vancouver
BEGIN:DAYLIGHT
TZOFFSETFROM:-0800
TZOFFSETTO:-0700
TZNAME:PDT
DTSTART:20260308T100000
END:DAYLIGHT
BEGIN:STANDARD
TZOFFSETFROM:-0700
TZOFFSETTO:-0800
TZNAME:PST
DTSTART:20261101T090000
END:STANDARD
END:VTIMEZONE
BEGIN:VEVENT
DTSTART;TZID=America/Vancouver:20260514T130000
DTEND;TZID=America/Vancouver:20260514T140000
DTSTAMP:20260425T202957
CREATED:20200121T131257Z
LAST-MODIFIED:20251128T182938Z
UID:120043-1778763600-1778767200@parkinsonseniors.com
SUMMARY:Beginner Stott Pilates - $5
DESCRIPTION:FYI – this class is held in the gym. Pilates is a form of exercise\, developed by Joseph Pilates\, which emphasizes the balanced development of the body through core strength\, flexibility\, and awareness in order to support efficient\, graceful movement. Linda MacCormack will lead you through a mat workout that you will definitely find beneficial.  This class is specifically designed for those new to Pilates. If you feel you’re more advanced please join us on Mondays at 10:45am for a more challenging class held upstairs.
URL:https://parkinsonseniors.com/event/beginner-pilates-5-2022-02-10/2026-05-14/
LOCATION:Parkinson Senior Centre\, 1700 Parkinson Way\, Kelowna\, BC\, Canada
CATEGORIES:Activities,Fitness,Weekly Activities
ATTACH;FMTTYPE=image/jpeg:https://parkinsonseniors.com/wp-content/uploads/2020/01/pilates-2-beginner-e1584657082577.jpg
GEO:49.8832289;-119.4573565
X-APPLE-STRUCTURED-LOCATION;VALUE=URI;X-ADDRESS=Parkinson Senior Centre 1700 Parkinson Way Kelowna BC Canada;X-APPLE-RADIUS=500;X-TITLE=1700 Parkinson Way:geo:-119.4573565,49.8832289
END:VEVENT
BEGIN:VEVENT
DTSTART;TZID=America/Vancouver:20260514T130000
DTEND;TZID=America/Vancouver:20260514T150000
DTSTAMP:20260425T202957
CREATED:20230619T182508Z
LAST-MODIFIED:20251128T204423Z
UID:120046-1778763600-1778770800@parkinsonseniors.com
SUMMARY:Euchre - $2
DESCRIPTION:A trick-taking card game most commonly played with four people in two partnerships with a deck of 24\, 28\, or sometimes 32\, standard playing cards. Our great group of regulars welcome all new players to join them and learn this wonderful game. You do not need a partner to attend.
URL:https://parkinsonseniors.com/event/euchre-2/2026-05-14/
LOCATION:Parkinson Senior Centre\, 1700 Parkinson Way\, Kelowna\, BC\, Canada
CATEGORIES:Activities,Weekly Activities
ATTACH;FMTTYPE=image/png:https://parkinsonseniors.com/wp-content/uploads/2023/06/euchre.png
GEO:49.8832289;-119.4573565
X-APPLE-STRUCTURED-LOCATION;VALUE=URI;X-ADDRESS=Parkinson Senior Centre 1700 Parkinson Way Kelowna BC Canada;X-APPLE-RADIUS=500;X-TITLE=1700 Parkinson Way:geo:-119.4573565,49.8832289
END:VEVENT
BEGIN:VEVENT
DTSTART;TZID=America/Vancouver:20260514T133000
DTEND;TZID=America/Vancouver:20260514T143000
DTSTAMP:20260425T202957
CREATED:20260325T204652Z
LAST-MODIFIED:20260325T204652Z
UID:124583-1778765400-1778769000@parkinsonseniors.com
SUMMARY:Cardio Drumming - Group Fitness - $3
DESCRIPTION:This new Group Fitness class can be done either seated or standing. Designed to improve balance\, relieve stress\, Increase strength\, and increase coordination. –  All while enjoying energetic music & a great social atmosphere. COME JOIN US and DRUM UP SOME FUN! Remember you can use your Group Fitness “punches” for this!
URL:https://parkinsonseniors.com/event/cardio-drumming-group-fitness-3-2/2026-05-14/
LOCATION:Parkinson Senior Centre\, 1700 Parkinson Way\, Kelowna\, BC\, Canada
CATEGORIES:Activities,Weekly Activities
ATTACH;FMTTYPE=image/jpeg:https://parkinsonseniors.com/wp-content/uploads/2026/03/cardio-drumming.jpg
GEO:49.8832289;-119.4573565
X-APPLE-STRUCTURED-LOCATION;VALUE=URI;X-ADDRESS=Parkinson Senior Centre 1700 Parkinson Way Kelowna BC Canada;X-APPLE-RADIUS=500;X-TITLE=1700 Parkinson Way:geo:-119.4573565,49.8832289
END:VEVENT
BEGIN:VEVENT
DTSTART;TZID=America/Vancouver:20260514T141500
DTEND;TZID=America/Vancouver:20260514T170000
DTSTAMP:20260425T202957
CREATED:20241003T220830Z
LAST-MODIFIED:20260422T204741Z
UID:120047-1778768100-1778778000@parkinsonseniors.com
SUMMARY:Pickleball - All Play - $2
DESCRIPTION:This session is open to all levels. Please be respectful of each other and above all\, have fun!\nIMPORTANT NOTE: Thursday & Friday Pickleball Sessions require registration. Registration starts every Monday morning at 8:00am by phone 250-762-4108 (or in person at the Centre). You may only sign up for EITHER Thursday OR Friday. Yourself and a partner. Sessions are capped at 24 people.
URL:https://parkinsonseniors.com/event/pickleball-open-play-2-2/2026-05-14/
LOCATION:Parkinson Senior Centre\, 1700 Parkinson Way\, Kelowna\, BC\, Canada
CATEGORIES:Activities,Weekly Activities
ATTACH;FMTTYPE=image/jpeg:https://parkinsonseniors.com/wp-content/uploads/2023/12/Pickleball.jpg
GEO:49.8832289;-119.4573565
X-APPLE-STRUCTURED-LOCATION;VALUE=URI;X-ADDRESS=Parkinson Senior Centre 1700 Parkinson Way Kelowna BC Canada;X-APPLE-RADIUS=500;X-TITLE=1700 Parkinson Way:geo:-119.4573565,49.8832289
END:VEVENT
BEGIN:VEVENT
DTSTART;TZID=America/Vancouver:20260514T190000
DTEND;TZID=America/Vancouver:20260514T213000
DTSTAMP:20260425T202957
CREATED:20200312T122927Z
LAST-MODIFIED:20251128T223237Z
UID:120038-1778785200-1778794200@parkinsonseniors.com
SUMMARY:Dancing at the PAC
DESCRIPTION:$8 for Members / $10 for Non-Members\n* Vic’s Dance Band performs Live. Up-tempo music such as Two Step\, Waltz\, Jive\, Ballroom\, Cha Cha\, Polka\, Rhumba and many more of your favorite styles to dance to.\n* Singles are always Welcome!
URL:https://parkinsonseniors.com/event/dancing-at-the-pac/2026-05-14/
LOCATION:Parkinson Senior Centre\, 1700 Parkinson Way\, Kelowna\, BC\, Canada
CATEGORIES:Activities,Weekly Activities
ATTACH;FMTTYPE=image/jpeg:https://parkinsonseniors.com/wp-content/uploads/2020/03/elderly-couple-dancing-2ARF2GE.jpg
GEO:49.8832289;-119.4573565
X-APPLE-STRUCTURED-LOCATION;VALUE=URI;X-ADDRESS=Parkinson Senior Centre 1700 Parkinson Way Kelowna BC Canada;X-APPLE-RADIUS=500;X-TITLE=1700 Parkinson Way:geo:-119.4573565,49.8832289
END:VEVENT
BEGIN:VEVENT
DTSTART;TZID=America/Vancouver:20260518T080000
DTEND;TZID=America/Vancouver:20260518T170000
DTSTAMP:20260425T202957
CREATED:20260423T191340Z
LAST-MODIFIED:20260423T191340Z
UID:125511-1779091200-1779123600@parkinsonseniors.com
SUMMARY:CLOSED - Victoria Day
DESCRIPTION:We are closed today for Victoria Day. See you Tomorrow!
URL:https://parkinsonseniors.com/event/closed-victoria-day-2/
LOCATION:Parkinson Senior Centre\, 1700 Parkinson Way\, Kelowna\, BC\, Canada
CATEGORIES:Activities,Weekly Activities
ATTACH;FMTTYPE=image/jpeg:https://parkinsonseniors.com/wp-content/uploads/2026/04/Victoria-Day-Web.jpg
GEO:49.8832289;-119.4573565
X-APPLE-STRUCTURED-LOCATION;VALUE=URI;X-ADDRESS=Parkinson Senior Centre 1700 Parkinson Way Kelowna BC Canada;X-APPLE-RADIUS=500;X-TITLE=1700 Parkinson Way:geo:-119.4573565,49.8832289
END:VEVENT
BEGIN:VEVENT
DTSTART;TZID=America/Vancouver:20260607T090000
DTEND;TZID=America/Vancouver:20260607T110000
DTSTAMP:20260425T202957
CREATED:20180329T122838Z
LAST-MODIFIED:20260304T210240Z
UID:123648-1780822800-1780830000@parkinsonseniors.com
SUMMARY:Pancake Breakfast
DESCRIPTION:Join us the first Sunday of each month (Oct to June) for a traditional Pancake Breakfast. \nFor only $10 you’ll get a hearty serving of: \n\n2 Pancakes (with Blueberry Sauce if you wish)\nScrambled Eggs\n2 Bacon Strips\n2 Sausage Links\nBeans\nPlus Coffee\, Tea\, or Juice\n\nDoors open at 9:00am and seating is available in the Main Hall. Wrap up is at 11:00am. \nEveryone is welcome regardless of age or Membership. We look forward to seeing you!
URL:https://parkinsonseniors.com/event/pancake-breakfast/2026-06-07/
LOCATION:Parkinson Senior Centre\, 1700 Parkinson Way\, Kelowna\, BC\, Canada
CATEGORIES:Activities,Weekly Activities
ATTACH;FMTTYPE=image/jpeg:https://parkinsonseniors.com/wp-content/uploads/2018/03/pancake-breakfast.jpg
GEO:49.8832289;-119.4573565
X-APPLE-STRUCTURED-LOCATION;VALUE=URI;X-ADDRESS=Parkinson Senior Centre 1700 Parkinson Way Kelowna BC Canada;X-APPLE-RADIUS=500;X-TITLE=1700 Parkinson Way:geo:-119.4573565,49.8832289
END:VEVENT
END:VCALENDAR